BEGIN:VCALENDAR
VERSION:2.0
PRODID:-//Plone.org//NONSGML plone.app.event//EN
X-WR-TIMEZONE:America/Argentina/Buenos_Aires
BEGIN:VEVENT
SUMMARY:10ª Ordinária da 4ª Sessão Legislativa da 7ª Legislatura
DTSTART;VALUE=DATE:20240423
DTEND;VALUE=DATE:20240424
DTSTAMP;VALUE=DATE-TIME:20260422T161351Z
UID:4c72491e58734a3f995c1bc87e31a7d6@www.carambei.pr.leg.br
CREATED;VALUE=DATE-TIME:20240222T170523Z
LAST-MODIFIED;VALUE=DATE-TIME:20240423T173530Z
URL:https://www.carambei.pr.leg.br/institucional/agenda-de-eventos/10a-ord
 inaria-da-4a-sessao-legislativa-da-7a-legislatura
END:VEVENT
END:VCALENDAR
