BEGIN:VCALENDAR
VERSION:2.0
PRODID:-//Plone.org//NONSGML plone.app.event//EN
X-WR-TIMEZONE:America/Argentina/Buenos_Aires
BEGIN:VEVENT
SUMMARY:13ª Ordinária da 4ª Sessão Legislativa da 7ª Legislatura
DTSTART;VALUE=DATE:20240514
DTEND;VALUE=DATE:20240515
DTSTAMP;VALUE=DATE-TIME:20260422T142724Z
UID:67e942038b79420e9904ffb53be1d41a@www.carambei.pr.leg.br
CREATED;VALUE=DATE-TIME:20240222T175925Z
LAST-MODIFIED;VALUE=DATE-TIME:20240514T152659Z
URL:https://www.carambei.pr.leg.br/institucional/agenda-de-eventos/13a-ord
 inaria-da-4a-sessao-legislativa-da-7a-legislatura
END:VEVENT
END:VCALENDAR
