BEGIN:VCALENDAR
VERSION:2.0
PRODID:-//Plone.org//NONSGML plone.app.event//EN
X-WR-TIMEZONE:America/Argentina/Buenos_Aires
BEGIN:VEVENT
SUMMARY:14ª Ordinária da 4ª Sessão Legislativa da 7ª Legislatura
DTSTART;VALUE=DATE:20240521
DTEND;VALUE=DATE:20240522
DTSTAMP;VALUE=DATE-TIME:20260422T074513Z
UID:763247cfa46d460492f8e38968450a92@www.carambei.pr.leg.br
CREATED;VALUE=DATE-TIME:20240222T180651Z
LAST-MODIFIED;VALUE=DATE-TIME:20240514T152742Z
URL:https://www.carambei.pr.leg.br/institucional/agenda-de-eventos/14a-ord
 inaria-da-4a-sessao-legislativa-da-7a-legislatura
END:VEVENT
END:VCALENDAR
