BEGIN:VCALENDAR
VERSION:2.0
PRODID:-//Plone.org//NONSGML plone.app.event//EN
X-WR-TIMEZONE:America/Argentina/Buenos_Aires
BEGIN:VEVENT
SUMMARY:18ª Ordinária da 4ª Sessão Legislativa da 7ª Legislatura
DTSTART;VALUE=DATE:20240618
DTEND;VALUE=DATE:20240619
DTSTAMP;VALUE=DATE-TIME:20260422T030513Z
UID:66e5959aaa3948f9bdf18e596c18bfa1@www.carambei.pr.leg.br
CREATED;VALUE=DATE-TIME:20240514T160155Z
LAST-MODIFIED;VALUE=DATE-TIME:20240514T160202Z
URL:https://www.carambei.pr.leg.br/institucional/agenda-de-eventos/18a-ord
 inaria-da-4a-sessao-legislativa-da-7a-legislatura
END:VEVENT
END:VCALENDAR
