BEGIN:VCALENDAR
VERSION:2.0
PRODID:-//Plone.org//NONSGML plone.app.event//EN
X-WR-TIMEZONE:America/Argentina/Buenos_Aires
BEGIN:VEVENT
SUMMARY:19ª Ordinária da 4ª Sessão Legislativa da 7ª Legislatura
DTSTART;VALUE=DATE:20240625
DTEND;VALUE=DATE:20240626
DTSTAMP;VALUE=DATE-TIME:20260422T030837Z
UID:270bc68abdf0451a9ab77167472b60b9@www.carambei.pr.leg.br
CREATED;VALUE=DATE-TIME:20240514T160326Z
LAST-MODIFIED;VALUE=DATE-TIME:20240514T160334Z
URL:https://www.carambei.pr.leg.br/institucional/agenda-de-eventos/19a-ord
 inaria-da-4a-sessao-legislativa-da-7a-legislatura
END:VEVENT
END:VCALENDAR
