BEGIN:VCALENDAR
VERSION:2.0
PRODID:-//Plone.org//NONSGML plone.app.event//EN
X-WR-TIMEZONE:America/Argentina/Buenos_Aires
BEGIN:VEVENT
SUMMARY:1ª Sessão Ordinária da 7ª Legislatura
DTSTART;VALUE=DATE:20240220
DTEND;VALUE=DATE:20240221
DTSTAMP;VALUE=DATE-TIME:20260421T214358Z
UID:75b54414f9c245e2b31354a2c6a5d962@www.carambei.pr.leg.br
CREATED;VALUE=DATE-TIME:20240219T155747Z
LAST-MODIFIED;VALUE=DATE-TIME:20240220T160532Z
URL:https://www.carambei.pr.leg.br/institucional/agenda-de-eventos/1a-sesa
 ordinaria-da-4a-sessao-legislativa-da-7a-legislatura
END:VEVENT
END:VCALENDAR
