BEGIN:VCALENDAR
VERSION:2.0
PRODID:-//Plone.org//NONSGML plone.app.event//EN
X-WR-TIMEZONE:America/Argentina/Buenos_Aires
BEGIN:VEVENT
SUMMARY:1ª Sessão Extraordinária
DTSTART;VALUE=DATE:20250220
DTEND;VALUE=DATE:20250221
DTSTAMP;VALUE=DATE-TIME:20260422T041837Z
UID:231e67d354964c82a91dca4a190b3f53@www.carambei.pr.leg.br
CREATED;VALUE=DATE-TIME:20250219T195507Z
LAST-MODIFIED;VALUE=DATE-TIME:20250219T195516Z
URL:https://www.carambei.pr.leg.br/institucional/agenda-de-eventos/1a-sess
 ao-extraordinaria
END:VEVENT
END:VCALENDAR
