BEGIN:VCALENDAR
VERSION:2.0
PRODID:-//Plone.org//NONSGML plone.app.event//EN
X-WR-TIMEZONE:America/Argentina/Buenos_Aires
BEGIN:VEVENT
SUMMARY:1ª Sessão Ordinária
DTSTART;VALUE=DATE:20250218
DTEND;VALUE=DATE:20250219
DTSTAMP;VALUE=DATE-TIME:20260422T062605Z
UID:011dfb71ef8442e38431bf5d75185ff4@www.carambei.pr.leg.br
CREATED;VALUE=DATE-TIME:20250219T195353Z
LAST-MODIFIED;VALUE=DATE-TIME:20250219T195400Z
URL:https://www.carambei.pr.leg.br/institucional/agenda-de-eventos/1a-sess
 ao-ordinaria
END:VEVENT
END:VCALENDAR
