BEGIN:VCALENDAR
VERSION:2.0
PRODID:-//Plone.org//NONSGML plone.app.event//EN
X-WR-TIMEZONE:America/Argentina/Buenos_Aires
BEGIN:VEVENT
SUMMARY:21ª Ordinária da 4ª Sessão Legislativa da 7ª Legislatura
DTSTART;VALUE=DATE:20240806
DTEND;VALUE=DATE:20240807
DTSTAMP;VALUE=DATE-TIME:20260422T060339Z
UID:8788535dd93a4a9b8b37182b5a6cea02@www.carambei.pr.leg.br
CREATED;VALUE=DATE-TIME:20240514T161011Z
LAST-MODIFIED;VALUE=DATE-TIME:20240909T185217Z
URL:https://www.carambei.pr.leg.br/institucional/agenda-de-eventos/20a-ord
 inaria-da-4a-sessao-legislativa-da-7a-legislatura
END:VEVENT
END:VCALENDAR
