BEGIN:VCALENDAR
VERSION:2.0
PRODID:-//Plone.org//NONSGML plone.app.event//EN
X-WR-TIMEZONE:America/Argentina/Buenos_Aires
BEGIN:VEVENT
SUMMARY:25ª Ordinária da 4ª Sessão Legislativa - 15h.
DTSTART;VALUE=DATE:20240903
DTEND;VALUE=DATE:20240904
DTSTAMP;VALUE=DATE-TIME:20260421T203854Z
UID:809e1eaa8eac43edb731205af83d5a18@www.carambei.pr.leg.br
CREATED;VALUE=DATE-TIME:20240909T184037Z
LAST-MODIFIED;VALUE=DATE-TIME:20240909T184107Z
URL:https://www.carambei.pr.leg.br/institucional/agenda-de-eventos/25a-ord
 inaria-da-4a-sessao-legislativa
END:VEVENT
END:VCALENDAR
