BEGIN:VCALENDAR
VERSION:2.0
PRODID:-//Plone.org//NONSGML plone.app.event//EN
X-WR-TIMEZONE:America/Argentina/Buenos_Aires
BEGIN:VEVENT
SUMMARY:26ª Ordinária da 4ª Sessão Legislativa - 15h.
DTSTART;VALUE=DATE:20240910
DTEND;VALUE=DATE:20240911
DTSTAMP;VALUE=DATE-TIME:20260422T030235Z
UID:4b55fe0804f84d9eb05665a6a3785d78@www.carambei.pr.leg.br
CREATED;VALUE=DATE-TIME:20240909T184226Z
LAST-MODIFIED;VALUE=DATE-TIME:20240909T184236Z
URL:https://www.carambei.pr.leg.br/institucional/agenda-de-eventos/26a-ord
 inaria-da-4a-sessao-legislativa-15h
END:VEVENT
END:VCALENDAR
