BEGIN:VCALENDAR
VERSION:2.0
PRODID:-//Plone.org//NONSGML plone.app.event//EN
X-WR-TIMEZONE:America/Argentina/Buenos_Aires
BEGIN:VEVENT
SUMMARY:28ª Ordinária da 4ª Sessão Legislativa da 7ª Legislatura
DTSTART;VALUE=DATE:20241015
DTEND;VALUE=DATE:20241016
DTSTAMP;VALUE=DATE-TIME:20260422T060339Z
UID:db95e9723b6c443da4925e0dbf4b31fe@www.carambei.pr.leg.br
CREATED;VALUE=DATE-TIME:20241017T173912Z
LAST-MODIFIED;VALUE=DATE-TIME:20241017T173920Z
URL:https://www.carambei.pr.leg.br/institucional/agenda-de-eventos/28a-ord
 inaria-da-4a-sessao-legislativa-da-7a-legislatura
END:VEVENT
END:VCALENDAR
