BEGIN:VCALENDAR
VERSION:2.0
PRODID:-//Plone.org//NONSGML plone.app.event//EN
X-WR-TIMEZONE:America/Argentina/Buenos_Aires
BEGIN:VEVENT
SUMMARY:29ª Ordinária da 4ª Sessão Legislativa da 7ª Legislatura Aber
 tura
DTSTART;VALUE=DATE:20241022
DTEND;VALUE=DATE:20241023
DTSTAMP;VALUE=DATE-TIME:20260422T091950Z
UID:6d521d4960cc41b0965234e5569d2100@www.carambei.pr.leg.br
CREATED;VALUE=DATE-TIME:20241017T174124Z
LAST-MODIFIED;VALUE=DATE-TIME:20241017T174131Z
URL:https://www.carambei.pr.leg.br/institucional/agenda-de-eventos/29a-ord
 inaria-da-4a-sessao-legislativa-da-7a-legislatura-abertura
END:VEVENT
END:VCALENDAR
