BEGIN:VCALENDAR
VERSION:2.0
PRODID:-//Plone.org//NONSGML plone.app.event//EN
X-WR-TIMEZONE:America/Argentina/Buenos_Aires
BEGIN:VEVENT
SUMMARY:3ª Ordinária da 4ª Sessão Legislativa da 7ª Legislatura
DTSTART;VALUE=DATE:20240305
DTEND;VALUE=DATE:20240306
DTSTAMP;VALUE=DATE-TIME:20260421T203900Z
UID:d29e624278db4973ae9d0850d8c94c84@www.carambei.pr.leg.br
CREATED;VALUE=DATE-TIME:20240222T163031Z
LAST-MODIFIED;VALUE=DATE-TIME:20240311T161243Z
URL:https://www.carambei.pr.leg.br/institucional/agenda-de-eventos/3a-ordi
 naria-da-4a-sessao-legislativa-da-7a-legislatura
END:VEVENT
END:VCALENDAR
