BEGIN:VCALENDAR
VERSION:2.0
PRODID:-//Plone.org//NONSGML plone.app.event//EN
X-WR-TIMEZONE:America/Argentina/Buenos_Aires
BEGIN:VEVENT
SUMMARY:6ª Ordinária da 4ª Sessão Legislativa da 7ª Legislatura
DTSTART;VALUE=DATE:20240326
DTEND;VALUE=DATE:20240327
DTSTAMP;VALUE=DATE-TIME:20260422T111345Z
UID:bfd7f83404db4af3a5c88a3c6ada80ce@www.carambei.pr.leg.br
CREATED;VALUE=DATE-TIME:20240222T165434Z
LAST-MODIFIED;VALUE=DATE-TIME:20240325T184529Z
URL:https://www.carambei.pr.leg.br/institucional/agenda-de-eventos/6a-ordi
 naria-da-4a-sessao-legislativa-da-7a-legislatura
END:VEVENT
END:VCALENDAR
