BEGIN:VCALENDAR
VERSION:2.0
PRODID:-//Plone.org//NONSGML plone.app.event//EN
X-WR-TIMEZONE:America/Argentina/Buenos_Aires
BEGIN:VEVENT
SUMMARY:8ª Ordinária da 4ª Sessão Legislativa da 7ª Legislatura
DTSTART;VALUE=DATE:20240409
DTEND;VALUE=DATE:20240410
DTSTAMP;VALUE=DATE-TIME:20260422T073838Z
UID:7476a9d866034ee0b6e9a87e2bf6e44c@www.carambei.pr.leg.br
CREATED;VALUE=DATE-TIME:20240222T170025Z
LAST-MODIFIED;VALUE=DATE-TIME:20240408T181729Z
URL:https://www.carambei.pr.leg.br/institucional/agenda-de-eventos/8a-ordi
 naria-da-4a-sessao-legislativa-da-7a-legislatura
END:VEVENT
END:VCALENDAR
