BEGIN:VCALENDAR
VERSION:2.0
PRODID:-//Plone.org//NONSGML plone.app.event//EN
X-WR-TIMEZONE:America/Argentina/Buenos_Aires
BEGIN:VEVENT
SUMMARY:9ª Ordinária da 4ª Sessão Legislativa da 7ª Legislatura
DTSTART;VALUE=DATE:20240416
DTEND;VALUE=DATE:20240417
DTSTAMP;VALUE=DATE-TIME:20260422T091725Z
UID:505fda269e6e4525aa7736c82feaf042@www.carambei.pr.leg.br
CREATED;VALUE=DATE-TIME:20240222T170340Z
LAST-MODIFIED;VALUE=DATE-TIME:20240422T163843Z
URL:https://www.carambei.pr.leg.br/institucional/agenda-de-eventos/9a-ordi
 naria-da-4a-sessao-legislativa-da-7a-legislatura
END:VEVENT
END:VCALENDAR
