BEGIN:VCALENDAR
VERSION:2.0
PRODID:-//Plone.org//NONSGML plone.app.event//EN
X-WR-TIMEZONE:America/Argentina/Buenos_Aires
BEGIN:VEVENT
SUMMARY:Apresentação do 2º Quadrimestre dos relatórios de Gestão Fisc
 al.
DTSTART;VALUE=DATE:20220928
DTEND;VALUE=DATE:20220929
DTSTAMP;VALUE=DATE-TIME:20260422T074238Z
UID:72b9b5ccfee44b7c9113bd8e1f0604b7@www.carambei.pr.leg.br
CREATED;VALUE=DATE-TIME:20220908T191027Z
LAST-MODIFIED;VALUE=DATE-TIME:20220923T185638Z
URL:https://www.carambei.pr.leg.br/institucional/agenda-de-eventos/apresen
 tacao-do-2o-quadrimestre-dos-relatorios-de-gestao-fiscal
END:VEVENT
END:VCALENDAR
