BEGIN:VCALENDAR
VERSION:2.0
PRODID:-//Plone.org//NONSGML plone.app.event//EN
X-WR-TIMEZONE:America/Argentina/Buenos_Aires
BEGIN:VEVENT
SUMMARY:Apresentação Peça Teatral.
DTSTART;VALUE=DATE:20220308
DTEND;VALUE=DATE:20220309
DTSTAMP;VALUE=DATE-TIME:20260421T220450Z
UID:596c98bf58e2484a9e1eb5f1f65a44c9@www.carambei.pr.leg.br
CREATED;VALUE=DATE-TIME:20220225T182425Z
LAST-MODIFIED;VALUE=DATE-TIME:20220225T182432Z
URL:https://www.carambei.pr.leg.br/institucional/agenda-de-eventos/apresen
 tacao-peca-teatral
END:VEVENT
END:VCALENDAR
