BEGIN:VCALENDAR
VERSION:2.0
PRODID:-//Plone.org//NONSGML plone.app.event//EN
X-WR-TIMEZONE:America/Argentina/Buenos_Aires
BEGIN:VEVENT
SUMMARY:Assembléia geral dos servidores do magistério Municipal.
DTSTART;VALUE=DATE:20220526
DTEND;VALUE=DATE:20220527
DTSTAMP;VALUE=DATE-TIME:20260421T233117Z
UID:fff8eb85b02141cca2a412f634a23c21@www.carambei.pr.leg.br
CREATED;VALUE=DATE-TIME:20220524T161842Z
LAST-MODIFIED;VALUE=DATE-TIME:20220524T161849Z
URL:https://www.carambei.pr.leg.br/institucional/agenda-de-eventos/assembl
 eia-geral-dos-servidores-do-magisterio-municipal
END:VEVENT
END:VCALENDAR
