BEGIN:VCALENDAR
VERSION:2.0
PRODID:-//Plone.org//NONSGML plone.app.event//EN
X-WR-TIMEZONE:America/Argentina/Buenos_Aires
BEGIN:VEVENT
SUMMARY:Audiência Secretaria da Assistência Social
DTSTART;VALUE=DATE:20250528
DTEND;VALUE=DATE:20250529
DTSTAMP;VALUE=DATE-TIME:20260422T043352Z
UID:0448a32dcf334d30a62faaf66a617be2@www.carambei.pr.leg.br
CREATED;VALUE=DATE-TIME:20250526T193849Z
LAST-MODIFIED;VALUE=DATE-TIME:20250526T194017Z
URL:https://www.carambei.pr.leg.br/institucional/agenda-de-eventos/audiems
 ecretaria-da-assistencia-social
END:VEVENT
END:VCALENDAR
