BEGIN:VCALENDAR
VERSION:2.0
PRODID:-//Plone.org//NONSGML plone.app.event//EN
X-WR-TIMEZONE:America/Argentina/Buenos_Aires
BEGIN:VEVENT
SUMMARY:Audiência on-line LDO de 2020 para 2021 15/05 às 14h
DTSTART;VALUE=DATE:20200515
DTEND;VALUE=DATE:20200516
DTSTAMP;VALUE=DATE-TIME:20260421T235115Z
UID:fb24d573a61243099926c1c00f8d1080@www.carambei.pr.leg.br
CREATED;VALUE=DATE-TIME:20200511T170209Z
LAST-MODIFIED;VALUE=DATE-TIME:20200511T170410Z
LOCATION:Plenário
URL:https://www.carambei.pr.leg.br/institucional/agenda-de-eventos/audienc
 ia-on-line-ldo-de-2020-para-2021-15-05-as-14h-1
END:VEVENT
END:VCALENDAR
