BEGIN:VCALENDAR
VERSION:2.0
PRODID:-//Plone.org//NONSGML plone.app.event//EN
X-WR-TIMEZONE:America/Argentina/Buenos_Aires
BEGIN:VEVENT
SUMMARY: Audiência Pública – Agosto Dourado e Saúde Mental Materna.
DTSTART;VALUE=DATE:20250818
DTEND;VALUE=DATE:20250819
DTSTAMP;VALUE=DATE-TIME:20260422T043414Z
UID:87d95c8d8c574a0aa41cdf2ae5971774@www.carambei.pr.leg.br
CREATED;VALUE=DATE-TIME:20250814T181223Z
LAST-MODIFIED;VALUE=DATE-TIME:20250814T181307Z
URL:https://www.carambei.pr.leg.br/institucional/agenda-de-eventos/audienc
 ia-publica-2013-agosto-dourado-e-saude-mental-materna
END:VEVENT
END:VCALENDAR
