BEGIN:VCALENDAR
VERSION:2.0
PRODID:-//Plone.org//NONSGML plone.app.event//EN
X-WR-TIMEZONE:America/Argentina/Buenos_Aires
BEGIN:VEVENT
SUMMARY:Audiência Pública
DTSTART;VALUE=DATE:20240131
DTEND;VALUE=DATE:20240201
DTSTAMP;VALUE=DATE-TIME:20260422T091007Z
UID:2b23b0e061524a46b9e5fcd8434fedc3@www.carambei.pr.leg.br
CREATED;VALUE=DATE-TIME:20240129T174523Z
LAST-MODIFIED;VALUE=DATE-TIME:20240131T172443Z
URL:https://www.carambei.pr.leg.br/institucional/agenda-de-eventos/audienc
 ia-publica-3
END:VEVENT
END:VCALENDAR
