BEGIN:VCALENDAR
VERSION:2.0
PRODID:-//Plone.org//NONSGML plone.app.event//EN
X-WR-TIMEZONE:America/Argentina/Buenos_Aires
BEGIN:VEVENT
SUMMARY:Audiência Pública 3º Quadrimestre 2020 e prestação de contas 
 do FUNDEB - Setembro a Dezembro de 2020 On-line.
DTSTART;TZID=Brazil/East;VALUE=DATE-TIME:20210212T140000
DTEND;TZID=Brazil/East;VALUE=DATE-TIME:20210212T153000
DTSTAMP;VALUE=DATE-TIME:20260422T080201Z
UID:6ead31d8584443bbb7b8176e4155e9da@www.carambei.pr.leg.br
CONTACT:Nelson Crist 
CREATED;VALUE=DATE-TIME:20210204T172022Z
DESCRIPTION:Audiência Pública 3º Quadrimestre 2020 e prestação de con
 tas do FUNDEB - Setembro a Dezembro de 2020.\nOn-line.
LAST-MODIFIED;VALUE=DATE-TIME:20210204T172520Z
LOCATION:Plenário da Câmara Municipal
URL:https://www.carambei.pr.leg.br/institucional/agenda-de-eventos/audienc
 ia-publica-3o-quadrimestre-2020-e-prestacao-de-contas-do-fundeb-setembro-a
 -dezembro-de-2020
END:VEVENT
BEGIN:VTIMEZONE
TZID:Brazil/East
X-LIC-LOCATION:Brazil/East
BEGIN:DAYLIGHT
DTSTART;VALUE=DATE-TIME:20201018T010000
TZNAME:BRST
TZOFFSETFROM:-0300
TZOFFSETTO:-0200
END:DAYLIGHT
END:VTIMEZONE
END:VCALENDAR
