BEGIN:VCALENDAR
VERSION:2.0
PRODID:-//Plone.org//NONSGML plone.app.event//EN
X-WR-TIMEZONE:America/Argentina/Buenos_Aires
BEGIN:VEVENT
SUMMARY:Audiências Públicas 14h\, 14h30 e 15h.
DTSTART;TZID=America/Argentina/Buenos_Aires;VALUE=DATE-TIME:20240925T14000
 0
DTEND;TZID=America/Argentina/Buenos_Aires;VALUE=DATE-TIME:20240925T150000
DTSTAMP;VALUE=DATE-TIME:20260422T090959Z
UID:2cc3810a7b9944dbba59b01af243fe3f@www.carambei.pr.leg.br
CREATED;VALUE=DATE-TIME:20240904T181143Z
LAST-MODIFIED;VALUE=DATE-TIME:20240909T185535Z
URL:https://www.carambei.pr.leg.br/institucional/agenda-de-eventos/audienc
 ia-publica-5
END:VEVENT
BEGIN:VTIMEZONE
TZID:America/Argentina/Buenos_Aires
X-LIC-LOCATION:America/Argentina/Buenos_Aires
BEGIN:STANDARD
DTSTART;VALUE=DATE-TIME:20090314T230000
TZNAME:ART
TZOFFSETFROM:-0200
TZOFFSETTO:-0300
END:STANDARD
END:VTIMEZONE
END:VCALENDAR
