BEGIN:VCALENDAR
VERSION:2.0
PRODID:-//Plone.org//NONSGML plone.app.event//EN
X-WR-TIMEZONE:America/Argentina/Buenos_Aires
BEGIN:VEVENT
SUMMARY:Audiência Pública Apresentação dos Relatórios de Gestão Fisc
 al. (RGF)
DTSTART;VALUE=DATE:20230922
DTEND;VALUE=DATE:20230923
DTSTAMP;VALUE=DATE-TIME:20260422T042402Z
UID:20f9215b19ea499797c03948b74b9fc4@www.carambei.pr.leg.br
CREATED;VALUE=DATE-TIME:20230920T194113Z
LAST-MODIFIED;VALUE=DATE-TIME:20230920T194119Z
URL:https://www.carambei.pr.leg.br/institucional/agenda-de-eventos/audienc
 ia-publica-apresentacao-dos-relatorios-de-gestao-fiscal-rgf
END:VEVENT
END:VCALENDAR
