BEGIN:VCALENDAR
VERSION:2.0
PRODID:-//Plone.org//NONSGML plone.app.event//EN
X-WR-TIMEZONE:America/Argentina/Buenos_Aires
BEGIN:VEVENT
SUMMARY:Audiência Pública FIN às 14h.
DTSTART;VALUE=DATE:20190129
DTEND;VALUE=DATE:20190130
DTSTAMP;VALUE=DATE-TIME:20260425T195933Z
UID:302e2aa2e5174148a255132ae07640e1@www.carambei.pr.leg.br
CREATED;VALUE=DATE-TIME:20190128T175238Z
LAST-MODIFIED;VALUE=DATE-TIME:20190128T175454Z
URL:https://www.carambei.pr.leg.br/institucional/agenda-de-eventos/audienc
 ia-publica-as-14h
END:VEVENT
END:VCALENDAR
