BEGIN:VCALENDAR
VERSION:2.0
PRODID:-//Plone.org//NONSGML plone.app.event//EN
X-WR-TIMEZONE:America/Argentina/Buenos_Aires
BEGIN:VEVENT
SUMMARY: Audiência pública da Saúde.
DTSTART;VALUE=DATE:20230313
DTEND;VALUE=DATE:20230314
DTSTAMP;VALUE=DATE-TIME:20260422T180417Z
UID:bfc74104615c46948b7c38ecf5befa34@www.carambei.pr.leg.br
CREATED;VALUE=DATE-TIME:20230303T201302Z
LAST-MODIFIED;VALUE=DATE-TIME:20230303T201615Z
URL:https://www.carambei.pr.leg.br/institucional/agenda-de-eventos/audienc
 ia-publica-da-saude
END:VEVENT
END:VCALENDAR
