BEGIN:VCALENDAR
VERSION:2.0
PRODID:-//Plone.org//NONSGML plone.app.event//EN
X-WR-TIMEZONE:America/Argentina/Buenos_Aires
BEGIN:VEVENT
SUMMARY:Audiência Pública da *Secretaria de Assistência Social* relativ
 o ao 1º quadrimestre de 2024.
DTSTART;VALUE=DATE:20240529
DTEND;VALUE=DATE:20240530
DTSTAMP;VALUE=DATE-TIME:20260421T211845Z
UID:e0e79430bf5b423096b841796eae0b48@www.carambei.pr.leg.br
CREATED;VALUE=DATE-TIME:20240521T205032Z
LAST-MODIFIED;VALUE=DATE-TIME:20240521T205038Z
URL:https://www.carambei.pr.leg.br/institucional/agenda-de-eventos/audienc
 ia-publica-da-secretaria-de-assistencia-social-relativo-ao-1o-quadrimestre
 -de-2024
END:VEVENT
END:VCALENDAR
