BEGIN:VCALENDAR
VERSION:2.0
PRODID:-//Plone.org//NONSGML plone.app.event//EN
X-WR-TIMEZONE:America/Argentina/Buenos_Aires
BEGIN:VEVENT
SUMMARY:Audiência Pública da Secretaria de Assistência Social.
DTSTART;VALUE=DATE:20240912
DTEND;VALUE=DATE:20240913
DTSTAMP;VALUE=DATE-TIME:20260422T130212Z
UID:3f6cb801b0ed48c8b22d7545277c6217@www.carambei.pr.leg.br
CREATED;VALUE=DATE-TIME:20240909T165505Z
LAST-MODIFIED;VALUE=DATE-TIME:20240909T165515Z
URL:https://www.carambei.pr.leg.br/institucional/agenda-de-eventos/audienc
 ia-publica-da-secretaria-de-assistencia-social
END:VEVENT
END:VCALENDAR
