BEGIN:VCALENDAR
VERSION:2.0
PRODID:-//Plone.org//NONSGML plone.app.event//EN
X-WR-TIMEZONE:America/Argentina/Buenos_Aires
BEGIN:VEVENT
SUMMARY:Audiência Pública da *Secretaria de Finanças* relativo ao 1º q
 uadrimestre de 2024 em cumprimento da Lei Complementar n° 101/2000 - Lei 
 de Responsabilidade Fiscal.
DTSTART;VALUE=DATE:20240527
DTEND;VALUE=DATE:20240528
DTSTAMP;VALUE=DATE-TIME:20260422T005346Z
UID:ff7292afb128447387e3d3aa35ada18a@www.carambei.pr.leg.br
CREATED;VALUE=DATE-TIME:20240521T204913Z
LAST-MODIFIED;VALUE=DATE-TIME:20240521T204921Z
URL:https://www.carambei.pr.leg.br/institucional/agenda-de-eventos/audienc
 ia-publica-da-secretaria-de-financas-relativo-ao-1o-quadrimestre-de-2024-e
 m-cumprimento-da-lei-complementar-ndeg-101-2000-lei-de-responsabilidade-fi
 scal
END:VEVENT
END:VCALENDAR
