BEGIN:VCALENDAR
VERSION:2.0
PRODID:-//Plone.org//NONSGML plone.app.event//EN
X-WR-TIMEZONE:America/Argentina/Buenos_Aires
BEGIN:VEVENT
SUMMARY:Audiência Pública LDO
DTSTART;VALUE=DATE:20220530
DTEND;VALUE=DATE:20220531
DTSTAMP;VALUE=DATE-TIME:20260422T011120Z
UID:981810b63c3d4ffe9162f70e22a2a97b@www.carambei.pr.leg.br
CREATED;VALUE=DATE-TIME:20220517T202929Z
LAST-MODIFIED;VALUE=DATE-TIME:20220517T202936Z
URL:https://www.carambei.pr.leg.br/institucional/agenda-de-eventos/audienc
 ia-publica-ldo-2
END:VEVENT
END:VCALENDAR
