BEGIN:VCALENDAR
VERSION:2.0
PRODID:-//Plone.org//NONSGML plone.app.event//EN
X-WR-TIMEZONE:America/Argentina/Buenos_Aires
BEGIN:VEVENT
SUMMARY:Audiência Pública - LDO 2023.
DTSTART;VALUE=DATE:20220603
DTEND;VALUE=DATE:20220604
DTSTAMP;VALUE=DATE-TIME:20260422T105303Z
UID:f3dcbae01ee74dfea7312c7cbd7e6f4d@www.carambei.pr.leg.br
CREATED;VALUE=DATE-TIME:20220531T200135Z
LAST-MODIFIED;VALUE=DATE-TIME:20220531T200142Z
URL:https://www.carambei.pr.leg.br/institucional/agenda-de-eventos/audienc
 ia-publica-ldo-2023
END:VEVENT
END:VCALENDAR
