BEGIN:VCALENDAR
VERSION:2.0
PRODID:-//Plone.org//NONSGML plone.app.event//EN
X-WR-TIMEZONE:America/Argentina/Buenos_Aires
BEGIN:VEVENT
SUMMARY:Audiência Pública - LOA 2024.
DTSTART;VALUE=DATE:20230922
DTEND;VALUE=DATE:20230923
DTSTAMP;VALUE=DATE-TIME:20260421T193322Z
UID:766d1bd84cc044a2aab5d51b6753a147@www.carambei.pr.leg.br
CREATED;VALUE=DATE-TIME:20230920T193955Z
LAST-MODIFIED;VALUE=DATE-TIME:20230920T194002Z
URL:https://www.carambei.pr.leg.br/institucional/agenda-de-eventos/audienc
 ia-publica-loa-2024
END:VEVENT
END:VCALENDAR
