BEGIN:VCALENDAR
VERSION:2.0
PRODID:-//Plone.org//NONSGML plone.app.event//EN
X-WR-TIMEZONE:America/Argentina/Buenos_Aires
BEGIN:VEVENT
SUMMARY:Audiência Pública - LOA.
DTSTART;VALUE=DATE:20250829
DTEND;VALUE=DATE:20250830
DTSTAMP;VALUE=DATE-TIME:20260422T073725Z
UID:a6a64f9981f8488684686032c18d59c6@www.carambei.pr.leg.br
CREATED;VALUE=DATE-TIME:20250814T182054Z
LAST-MODIFIED;VALUE=DATE-TIME:20250814T182101Z
URL:https://www.carambei.pr.leg.br/institucional/agenda-de-eventos/audienc
 ia-publica-loa
END:VEVENT
END:VCALENDAR
