BEGIN:VCALENDAR
VERSION:2.0
PRODID:-//Plone.org//NONSGML plone.app.event//EN
X-WR-TIMEZONE:America/Argentina/Buenos_Aires
BEGIN:VEVENT
SUMMARY:AUDIÊNCIA PÚBLICA REFERENTE A LEI DE DIRETRIZES ORÇAMENTÁRIAS 
  (LDO) PARA O EXERCÍCIO DE 2022
DTSTART;VALUE=DATE:20210507
DTEND;VALUE=DATE:20210508
DTSTAMP;VALUE=DATE-TIME:20260422T091121Z
UID:e38090aed9ff4e7a92bf00becd4f03f2@www.carambei.pr.leg.br
CREATED;VALUE=DATE-TIME:20210503T200450Z
DESCRIPTION:AUDIÊNCIA PÚBLICA REFERENTE A LEI DE DIRETRIZES ORÇAMENTÁR
 IAS  (LDO) PARA O EXERCÍCIO DE 2022
LAST-MODIFIED;VALUE=DATE-TIME:20210503T204520Z
URL:https://www.carambei.pr.leg.br/institucional/agenda-de-eventos/audienc
 ia-publica-referente-a-lei-de-diretrizes-orcamentarias-ldo-para-o-exercici
 o-de-2022
END:VEVENT
END:VCALENDAR
