BEGIN:VCALENDAR
VERSION:2.0
PRODID:-//Plone.org//NONSGML plone.app.event//EN
X-WR-TIMEZONE:America/Argentina/Buenos_Aires
BEGIN:VEVENT
SUMMARY:Audiência Pública Relatório Anual recursos aplicados em saúde.
DTSTART;VALUE=DATE:20220314
DTEND;VALUE=DATE:20220315
DTSTAMP;VALUE=DATE-TIME:20260422T013420Z
UID:19fc32c688fa420dbbead544dea6dfa8@www.carambei.pr.leg.br
CREATED;VALUE=DATE-TIME:20220304T180746Z
LAST-MODIFIED;VALUE=DATE-TIME:20220304T180757Z
URL:https://www.carambei.pr.leg.br/institucional/agenda-de-eventos/audienc
 ia-publica-relatorio-anual-recursos-aplicados-em-saude
END:VEVENT
END:VCALENDAR
