BEGIN:VCALENDAR
VERSION:2.0
PRODID:-//Plone.org//NONSGML plone.app.event//EN
X-WR-TIMEZONE:America/Argentina/Buenos_Aires
BEGIN:VEVENT
SUMMARY:Audiência Pública Saúde
DTSTART;VALUE=DATE:20200206
DTEND;VALUE=DATE:20200207
DTSTAMP;VALUE=DATE-TIME:20260422T042037Z
UID:f62f484001b346daa9671b81e256560f@www.carambei.pr.leg.br
CREATED;VALUE=DATE-TIME:20200203T192521Z
LAST-MODIFIED;VALUE=DATE-TIME:20200203T192916Z
URL:https://www.carambei.pr.leg.br/institucional/agenda-de-eventos/audienc
 ia-publica-saude-2
END:VEVENT
END:VCALENDAR
