BEGIN:VCALENDAR
VERSION:2.0
PRODID:-//Plone.org//NONSGML plone.app.event//EN
X-WR-TIMEZONE:America/Argentina/Buenos_Aires
BEGIN:VEVENT
SUMMARY:Audiência Pública Saúde.
DTSTART;VALUE=DATE:20230928
DTEND;VALUE=DATE:20230929
DTSTAMP;VALUE=DATE-TIME:20260422T045339Z
UID:6134f9b25a8746db8c857ac0ee034bc6@www.carambei.pr.leg.br
CREATED;VALUE=DATE-TIME:20230927T165448Z
LAST-MODIFIED;VALUE=DATE-TIME:20230927T165457Z
URL:https://www.carambei.pr.leg.br/institucional/agenda-de-eventos/audienc
 ia-publica-saude-4
END:VEVENT
END:VCALENDAR
