BEGIN:VCALENDAR
VERSION:2.0
PRODID:-//Plone.org//NONSGML plone.app.event//EN
X-WR-TIMEZONE:America/Argentina/Buenos_Aires
BEGIN:VEVENT
SUMMARY:Audiência Pública Saúde às 14h ALTERADO para 25/03
DTSTART;VALUE=DATE:20190322
DTEND;VALUE=DATE:20190323
DTSTAMP;VALUE=DATE-TIME:20260422T043129Z
UID:37b5944ea8bd46ea88186bbb20e23508@www.carambei.pr.leg.br
CREATED;VALUE=DATE-TIME:20190226T185516Z
LAST-MODIFIED;VALUE=DATE-TIME:20190320T174434Z
URL:https://www.carambei.pr.leg.br/institucional/agenda-de-eventos/audienc
 ia-publica-saude-as-14h-1
END:VEVENT
END:VCALENDAR
