BEGIN:VCALENDAR
VERSION:2.0
PRODID:-//Plone.org//NONSGML plone.app.event//EN
X-WR-TIMEZONE:America/Argentina/Buenos_Aires
BEGIN:VEVENT
SUMMARY:Audiência Pública Saúde 13:30h / PLENÁRIO
DTSTART;VALUE=DATE:20180126
DTEND;VALUE=DATE:20180127
DTSTAMP;VALUE=DATE-TIME:20260422T062625Z
UID:d29c7c23c08a4694b20bf95194d262db@www.carambei.pr.leg.br
CREATED;VALUE=DATE-TIME:20171219T152749Z
DESCRIPTION:Terceiro Quadrimestre do exercício de 2017.\n26/01/18 às 13:
 30h.\nSECRETARIA MUNICIPAL DE SAÚDE.\nPROTOCOLO GERAL 620/2017.
LAST-MODIFIED;VALUE=DATE-TIME:20171219T153046Z
URL:https://www.carambei.pr.leg.br/institucional/agenda-de-eventos/audienc
 ia-publica-saude
END:VEVENT
END:VCALENDAR
