BEGIN:VCALENDAR
VERSION:2.0
PRODID:-//Plone.org//NONSGML plone.app.event//EN
X-WR-TIMEZONE:America/Argentina/Buenos_Aires
BEGIN:VEVENT
SUMMARY:Audiência Pública Secretaria Municipal de Finanças.
DTSTART;VALUE=DATE:20250221
DTEND;VALUE=DATE:20250222
DTSTAMP;VALUE=DATE-TIME:20260421T203900Z
UID:a6920e84d2234564b3cf804b357746c8@www.carambei.pr.leg.br
CREATED;VALUE=DATE-TIME:20250211T185922Z
LAST-MODIFIED;VALUE=DATE-TIME:20250211T185929Z
URL:https://www.carambei.pr.leg.br/institucional/agenda-de-eventos/audienc
 ia-publica-secretaria-municipal-de-financas
END:VEVENT
END:VCALENDAR
