BEGIN:VCALENDAR
VERSION:2.0
PRODID:-//Plone.org//NONSGML plone.app.event//EN
X-WR-TIMEZONE:America/Argentina/Buenos_Aires
BEGIN:VEVENT
SUMMARY:ALTERADA - Audiência Pública Secretaria Municipal de Saúde
DTSTART;VALUE=DATE:20260129
DTEND;VALUE=DATE:20260130
DTSTAMP;VALUE=DATE-TIME:20260422T060339Z
UID:f449c8e205b548feb2c90f0f9b22f628@www.carambei.pr.leg.br
CREATED;VALUE=DATE-TIME:20260120T163257Z
LAST-MODIFIED;VALUE=DATE-TIME:20260129T212901Z
URL:https://www.carambei.pr.leg.br/institucional/agenda-de-eventos/audienc
 ia-publica-secretaria-municipal-de-saude-2
END:VEVENT
END:VCALENDAR
