BEGIN:VCALENDAR
VERSION:2.0
PRODID:-//Plone.org//NONSGML plone.app.event//EN
X-WR-TIMEZONE:America/Argentina/Buenos_Aires
BEGIN:VEVENT
SUMMARY:Audiência Pública Reforma da Previdência.
DTSTART;VALUE=DATE:20170331
DTEND;VALUE=DATE:20170401
DTSTAMP;VALUE=DATE-TIME:20260424T083159Z
UID:5971d9addc27424fada0bdaac9f65d32@www.carambei.pr.leg.br
CREATED;VALUE=DATE-TIME:20170324T105850Z
LAST-MODIFIED;VALUE=DATE-TIME:20170324T105930Z
URL:https://www.carambei.pr.leg.br/institucional/agenda-de-eventos/audienc
 ia-publica
END:VEVENT
END:VCALENDAR
