BEGIN:VCALENDAR
VERSION:2.0
PRODID:-//Plone.org//NONSGML plone.app.event//EN
X-WR-TIMEZONE:America/Argentina/Buenos_Aires
BEGIN:VEVENT
SUMMARY:Audiência Sec Munic Saúde 13h
DTSTART;VALUE=DATE:20170224
DTEND;VALUE=DATE:20170225
DTSTAMP;VALUE=DATE-TIME:20260422T091005Z
UID:9024b588cce84b6ba0a6dd51b9afdfa8@www.carambei.pr.leg.br
CREATED;VALUE=DATE-TIME:20170213T105748Z
LAST-MODIFIED;VALUE=DATE-TIME:20170213T105825Z
URL:https://www.carambei.pr.leg.br/institucional/agenda-de-eventos/audienc
 ia-sec-munic-saude
END:VEVENT
END:VCALENDAR
