BEGIN:VCALENDAR
VERSION:2.0
PRODID:-//Plone.org//NONSGML plone.app.event//EN
X-WR-TIMEZONE:America/Argentina/Buenos_Aires
BEGIN:VEVENT
SUMMARY:Audiências Públicas às 14h - 14h30 - 15h.
DTSTART;VALUE=DATE:20230526
DTEND;VALUE=DATE:20230527
DTSTAMP;VALUE=DATE-TIME:20260421T213457Z
UID:3e262c5638d8477381217820dc9d0736@www.carambei.pr.leg.br
CREATED;VALUE=DATE-TIME:20230519T190132Z
LAST-MODIFIED;VALUE=DATE-TIME:20230519T191346Z
URL:https://www.carambei.pr.leg.br/institucional/agenda-de-eventos/audienc
 ias-publicas-as-14h-14h30-15h
END:VEVENT
END:VCALENDAR
