BEGIN:VCALENDAR
VERSION:2.0
PRODID:-//Plone.org//NONSGML plone.app.event//EN
X-WR-TIMEZONE:America/Argentina/Buenos_Aires
BEGIN:VEVENT
SUMMARY:Audiências.
DTSTART;VALUE=DATE:20250530
DTEND;VALUE=DATE:20250531
DTSTAMP;VALUE=DATE-TIME:20260422T025442Z
UID:d8af290f33ab49c0a14f80cbdfaea81e@www.carambei.pr.leg.br
CREATED;VALUE=DATE-TIME:20250523T180509Z
LAST-MODIFIED;VALUE=DATE-TIME:20250523T181038Z
URL:https://www.carambei.pr.leg.br/institucional/agenda-de-eventos/audienc
 ias
END:VEVENT
END:VCALENDAR
