BEGIN:VCALENDAR
VERSION:2.0
PRODID:-//Plone.org//NONSGML plone.app.event//EN
X-WR-TIMEZONE:America/Argentina/Buenos_Aires
BEGIN:VEVENT
SUMMARY:Comissão Central Organizadora dos Jogos Abertos do Paraná.
DTSTART;VALUE=DATE:20170617
DTEND;VALUE=DATE:20170618
DTSTAMP;VALUE=DATE-TIME:20260422T043415Z
UID:6e6b4804b8674e26a6205433ecaaedd8@www.carambei.pr.leg.br
CREATED;VALUE=DATE-TIME:20170614T115606Z
LAST-MODIFIED;VALUE=DATE-TIME:20170614T115617Z
URL:https://www.carambei.pr.leg.br/institucional/agenda-de-eventos/comissa
 o-central-organizadora-dos-jogos-abertos-do-parana-2
END:VEVENT
END:VCALENDAR
