BEGIN:VCALENDAR
VERSION:2.0
PRODID:-//Plone.org//NONSGML plone.app.event//EN
X-WR-TIMEZONE:America/Argentina/Buenos_Aires
BEGIN:VEVENT
SUMMARY:Congresso técnico dos jogos do popular de Carambeí
DTSTART;VALUE=DATE:20181005
DTEND;VALUE=DATE:20181006
DTSTAMP;VALUE=DATE-TIME:20260422T030214Z
UID:4a9b39e46eb74059bbb3bc55706ec594@www.carambei.pr.leg.br
ATTENDEE;CN="50 pessoas";ROLE=REQ-PARTICIPANT:50 pessoas
CREATED;VALUE=DATE-TIME:20181001T203411Z
LAST-MODIFIED;VALUE=DATE-TIME:20181001T203602Z
LOCATION:Plenário
URL:https://www.carambei.pr.leg.br/institucional/agenda-de-eventos/congres
 so-tecnico-dos-jogos-do-popular-de-carambei
END:VEVENT
END:VCALENDAR
